BEGIN:VCALENDAR
VERSION:2.0
PRODID:-//Liz Jensen - ECPv6.9.0//NONSGML v1.0//EN
CALSCALE:GREGORIAN
METHOD:PUBLISH
X-WR-CALNAME:Liz Jensen
X-ORIGINAL-URL:https://www.lizjensen.com/test
X-WR-CALDESC:Events for Liz Jensen
REFRESH-INTERVAL;VALUE=DURATION:PT1H
X-Robots-Tag:noindex
X-PUBLISHED-TTL:PT1H
BEGIN:VTIMEZONE
TZID:UTC
BEGIN:STANDARD
TZOFFSETFROM:+0000
TZOFFSETTO:+0000
TZNAME:UTC
DTSTART:20160101T000000
END:STANDARD
END:VTIMEZONE
BEGIN:VEVENT
DTSTART;TZID=UTC:20161128T080000
DTEND;TZID=UTC:20161203T170000
DTSTAMP:20260423T221933
CREATED:20160209T100855Z
LAST-MODIFIED:20160314T151715Z
UID:458-1480320000-1480784400@www.lizjensen.com
SUMMARY:Speculative Fiction at the Arvon Foundation
DESCRIPTION:November 28th- December 3 \nArvon tutors Joanna Kavenna and Liz Jensen on the pleasures and challenges of writing speculative fiction.Together there’ll be teaching the Speculative Fiction course at The Hurst on Nov 28th – Dec 03rd 2016.  \nhttp://www.arvon.org/?s=speculative+fiction
URL:https://www.lizjensen.com/test/event/speculative-fiction-at-the-arvon-foundation/
END:VEVENT
BEGIN:VEVENT
DTSTART;VALUE=DATE:20160616
DTEND;VALUE=DATE:20160617
DTSTAMP:20260423T221933
CREATED:20160414T120409Z
LAST-MODIFIED:20160414T120409Z
UID:534-1466035200-1466121599@www.lizjensen.com
SUMMARY:Guest appearance at A Chapter Away
DESCRIPTION:‘A chapter away’ is a great place to start\, or to continue\, your incredible journey as a writer.  \nWhether your ambition is to leave a private MEMOIR for your family\, to bring together an anthology of POETRY for a loved one\, or to publish a NOVEL for millions of readers the world over to discover\, our courses offer you ‘time out’ and the expertise to set you on the right path\, with the help of other writers\, poets\, publishers and literary agents.
URL:https://www.lizjensen.com/test/event/guest-appearance-at-a-chapter-away/
END:VEVENT
END:VCALENDAR